BEGIN:VCALENDAR
VERSION:2.0
PRODID:-//ちあもあ - ECPv6.11.2//NONSGML v1.0//EN
CALSCALE:GREGORIAN
METHOD:PUBLISH
X-WR-CALNAME:ちあもあ
X-ORIGINAL-URL:https://tiamoa.jp
X-WR-CALDESC:ちあもあ のイベント
REFRESH-INTERVAL;VALUE=DURATION:PT1H
X-Robots-Tag:noindex
X-PUBLISHED-TTL:PT1H
BEGIN:VTIMEZONE
TZID:Asia/Tokyo
BEGIN:STANDARD
TZOFFSETFROM:+0900
TZOFFSETTO:+0900
TZNAME:JST
DTSTART:20260101T000000
END:STANDARD
END:VTIMEZONE
BEGIN:VEVENT
DTSTART;VALUE=DATE:20260301
DTEND;VALUE=DATE:20260302
DTSTAMP:20260425T225648
CREATED:20260127T053341Z
LAST-MODIFIED:20260228T155051Z
UID:15892-1772323200-1772409599@tiamoa.jp
SUMMARY:『セカイべフェス vol.96』＠GOTANDA G7
DESCRIPTION:⏰日時　3月1日(日)\n📝イベント名　『セカイべフェス vol.96』\n💴料金　▼優先 3\,000円 / 一般 2\,000円　※各券種＋1D（700円）が必要です。　※当日券は上記+500円　※追加Dなしで再入場可\n🎫予約　https://t-dv.com/second-innovation_vol96\n🎫情報解禁　20日(金)20:00\n🎫チケ発　21日(土)22:00\n🎤LIVE　20:10〜20:30\n📸物販　終演後物販\n🎁指名特典　2ショット写メ\n📍会場　GOTANDA G7\n🚪開場　11:20\n💃開演　11:35\n👩🏼‍💻出演　ちあもあ！/いちごみるく色に染まりたい。／Blossom Garden／sana／ミニスカポリス／ぱぁなしぁ／青山Rabness／wqwq／TJP／CHEERFUL／SeedS／再生のルクトゥミー／Misty Syrena／にちようびのきしかいせい／＆Bijou／THAT’s So exposeA／花ノぷりんせす／ROXiCHU／Once Upon a Time／アレキサンドライト／擬人化にゃんた／CODE改革同盟／アスパルテーム／幾星霜を彷徨った君と希望を翳して。／Paradigm Shift／Dear Lino／SPICE BOMB／キミとプレリュード
URL:https://tiamoa.jp/event/%e3%83%a9%e3%82%a4%e3%83%96%ef%bc%a0gotanda-g7/
ATTACH;FMTTYPE=image/jpeg:https://tiamoa.jp/wp-content/uploads/S__16605220.jpg
END:VEVENT
BEGIN:VEVENT
DTSTART;VALUE=DATE:20260303
DTEND;VALUE=DATE:20260304
DTSTAMP:20260425T225648
CREATED:20260228T160337Z
LAST-MODIFIED:20260228T160530Z
UID:16047-1772496000-1772582399@tiamoa.jp
SUMMARY:「リテールテックJAPAN2026」＠東京ビッグサイト 東6ホール RT6104 (株)TBグループ DSブース
DESCRIPTION:⏰日時    3月3日(火)/4日(水)\n📝イベント名　「リテールテックJAPAN2026」\n💴料金    無料(事前登録必要)\n🎫予約　https://messe.nikkei.co.jp/rt/\n🎤LIVE　11:00/14:00/16:00 各回15分程\n📸物販　無し\n📍会場    東京ビッグサイト 東6ホール RT6104 (株)TBグループ DSブース
URL:https://tiamoa.jp/event/%e3%80%8c%e3%83%aa%e3%83%86%e3%83%bc%e3%83%ab%e3%83%86%e3%83%83%e3%82%afjapan2026%e3%80%8d%ef%bc%a0%e6%9d%b1%e4%ba%ac%e3%83%93%e3%83%83%e3%82%b0%e3%82%b5%e3%82%a4%e3%83%88-%e6%9d%b16%e3%83%9b%e3%83%bc/
ATTACH;FMTTYPE=image/jpeg:https://tiamoa.jp/wp-content/uploads/HCPTfRSbEAU3ne6.jpeg
END:VEVENT
BEGIN:VEVENT
DTSTART;VALUE=DATE:20260304
DTEND;VALUE=DATE:20260305
DTSTAMP:20260425T225648
CREATED:20260228T160443Z
LAST-MODIFIED:20260228T160503Z
UID:16051-1772582400-1772668799@tiamoa.jp
SUMMARY:「リテールテックJAPAN2026」＠東6ホール RT6104 (株)TBグループ DSブース
DESCRIPTION:⏰日時 3月3日(火)/4日(水)\n📝イベント名　「リテールテックJAPAN2026」\n💴料金 無料(事前登録必要)\n🎫予約　https://messe.nikkei.co.jp/rt/\n🎤LIVE　11:00/14:00/16:00 各回15分程\n📸物販　無し\n📍会場 東京ビッグサイト 東6ホール RT6104 (株)TBグループ DSブース
URL:https://tiamoa.jp/event/%e3%80%8c%e3%83%aa%e3%83%86%e3%83%bc%e3%83%ab%e3%83%86%e3%83%83%e3%82%afjapan2026%e3%80%8d%ef%bc%a0%e6%9d%b16%e3%83%9b%e3%83%bc%e3%83%ab-rt6104-%e6%a0%aatb%e3%82%b0%e3%83%ab%e3%83%bc%e3%83%97-ds/
ATTACH;FMTTYPE=image/jpeg:https://tiamoa.jp/wp-content/uploads/HCPTfRSbEAU3ne6-1.jpeg
END:VEVENT
BEGIN:VEVENT
DTSTART;VALUE=DATE:20260304
DTEND;VALUE=DATE:20260305
DTSTAMP:20260425T225648
CREATED:20260127T050719Z
LAST-MODIFIED:20260301T151208Z
UID:15888-1772582400-1772668799@tiamoa.jp
SUMMARY:『NEO IDOLEGION FREELIVE Vol 116』＠新宿DHNoA
DESCRIPTION:⏰日時　3月4日(水)\n📝イベント名　『NEO IDOLEGION FREELIVE Vol 116』\n💴料金　一般¥0 / 優先¥2\,000 / 最優先¥5\,000 当日各+¥500 (別途1D 700円)\n🎫予約　https://t-dv.com/idolegion116\n🎤LIVE　22:10～22:25\n📸物販　前物販E(20:45-21:20)/22:30～ 22:45(A)\n🎁指名特典　10秒動画\n📍会場　新宿DHNoA\n🚪開場　12:40\n💃開演　12:50\n👩🏼‍💻出演　ちあもあ！ /笑う門には福来たる / みらくる🌙ふぉーぜ-ZERO- / にゃんすきっ♡？ / ゎんみゅー♡ / 宇宙カラノ侵略者 / 真夜中の魔法少女 / Tuning Fill in / NEOTOKYO-TRIBE / 8ANGEL / 8WIZARD / 8DOLL / 8FLAG / 神崎零 / TJP / 月ノ踊子ラビット / 煌きメリー☆ボップ / 羽田フリーク / ToyTicTrap / FLORE RISA / リベルナント / STRAWBERRY FEATHERSTAR / 擬人化にゃんた / ルミナスシンフォニー / ぷれしゃす♡ぱーてぃー / はいどーも！テラスマです！ / RIOTTiKA / 青春のフロンティア / 傾奇隊 / 虹色幻想曲〜プリズム・ファンタジア〜 / THAT’s So exposeA / ﾃﾞｨﾃﾞｨｽｺｯｺ!!【DDS!!】/ マイちゃんアミちゃん / ソロ♨️るる / シブヤDOMINION / 世界逆転宣言！ / mignon / ワガマき
URL:https://tiamoa.jp/event/%e3%83%a9%e3%82%a4%e3%83%96%ef%bc%a0%e6%96%b0%e5%ae%bfdhnoa-5/
ATTACH;FMTTYPE=image/jpeg:https://tiamoa.jp/wp-content/uploads/S__62709842.jpg
END:VEVENT
BEGIN:VEVENT
DTSTART;VALUE=DATE:20260305
DTEND;VALUE=DATE:20260306
DTSTAMP:20260425T225648
CREATED:20260225T175018Z
LAST-MODIFIED:20260225T175018Z
UID:16023-1772668800-1772755199@tiamoa.jp
SUMMARY:ちあぱー
DESCRIPTION:https://www.bear.cool/board-game/event/106897/info
URL:https://tiamoa.jp/event/%e3%81%a1%e3%81%82%e3%81%b1%e3%83%bc-13/
END:VEVENT
BEGIN:VEVENT
DTSTART;VALUE=DATE:20260307
DTEND;VALUE=DATE:20260308
DTSTAMP:20260425T225648
CREATED:20260127T051058Z
LAST-MODIFIED:20260302T125652Z
UID:15890-1772841600-1772927999@tiamoa.jp
SUMMARY:シブヤDOMINION小日向美音生誕ライブ＠池袋リヴォイス
DESCRIPTION:⏰日時　3月7日\n📝イベント名　シブヤDOMINION小日向美音生誕ライブ\n💴料金　2\,000円＋1D\n🎫予約　tiget.net/events/465948\n🎤LIVE　12:20〜12:40\n📸物販　終演後物販\n🎁指名特典　TikTok撮影\n📍会場　池袋リヴォイス\n🚪開場　11:30\n💃開演　11:45\n👩🏼‍💻出演　ちあもあ！ /　シブヤDOMINION / RiKKYY /  Mikoto
URL:https://tiamoa.jp/event/%e3%83%a9%e3%82%a4%e3%83%96%ef%bc%a0%e6%b1%a0%e8%a2%8b%e3%83%aa%e3%83%b4%e3%82%a9%e3%82%a4%e3%82%b9-2/
ATTACH;FMTTYPE=image/jpeg:https://tiamoa.jp/wp-content/uploads/S__471465989.jpg
END:VEVENT
BEGIN:VEVENT
DTSTART;VALUE=DATE:20260308
DTEND;VALUE=DATE:20260309
DTSTAMP:20260425T225648
CREATED:20260216T140538Z
LAST-MODIFIED:20260217T165230Z
UID:15971-1772928000-1773014399@tiamoa.jp
SUMMARY:二刀流系アイドルFortuness　東名阪ツアー2026 in東京＠WALLOP
DESCRIPTION:⏰日時　3/8(日)\n📝イベント名　二刀流系アイドルFortuness　東名阪ツアー2026 in東京\n💴料金　前売 ¥2000 / 当日 ¥2500(+d代)\n🎫予約　https://tiget.net/events/467897\n🎫チケ発　2/18 22時\n🎤LIVE　13:00〜13:20\n📸物販　終演後物販\n🎁指名特典　TikTok撮影\n📍会場　WALLOP\n🚪開場　12:45\n💃開演　13:00\n👩🏼‍💻出演　ちあもあ！、neOen、参宮橋駅前女子、ポジティブモンスター、Fortuness
URL:https://tiamoa.jp/event/%e3%83%a9%e3%82%a4%e3%83%96%ef%bc%a0wallop/
ATTACH;FMTTYPE=image/jpeg:https://tiamoa.jp/wp-content/uploads/S__853278723.jpg
END:VEVENT
BEGIN:VEVENT
DTSTART;VALUE=DATE:20260310
DTEND;VALUE=DATE:20260311
DTSTAMP:20260425T225648
CREATED:20260216T140017Z
LAST-MODIFIED:20260216T140034Z
UID:15967-1773100800-1773187199@tiamoa.jp
SUMMARY:ちあもあ！ぱーてぃー　ファンミーティング @秋葉原Galaxy
DESCRIPTION:⏰日時　3/10(火)\n📝イベント名　ちあもあ！ぱーてぃー　ファンミーティング\n💴料金　3\,000円＋1D 有料配信あり(2\,000円/2週間アーカイブ付き)\n🎫予約　https://forms.gle/UysrFVv2VPK6MpdE8\n🎁指名特典　寄せ書き色紙レプリカ\n📍会場　秋葉原Galaxy\n🚪開場　19:15\n💃開演　19:30\n👩🏼‍💻出演　ちあもあ！
URL:https://tiamoa.jp/event/%e3%81%a1%e3%81%82%e3%82%82%e3%81%82%ef%bc%81%e3%81%b1%e3%83%bc%e3%81%a6%e3%81%83%e3%83%bc%e3%80%80%e3%83%95%e3%82%a1%e3%83%b3%e3%83%9f%e3%83%bc%e3%83%86%e3%82%a3%e3%83%b3%e3%82%b0-%e7%a7%8b%e8%91%89/
ATTACH;FMTTYPE=image/jpeg:https://tiamoa.jp/wp-content/uploads/S__25706572.jpg
END:VEVENT
BEGIN:VEVENT
DTSTART;VALUE=DATE:20260312
DTEND;VALUE=DATE:20260313
DTSTAMP:20260425T225648
CREATED:20260225T175049Z
LAST-MODIFIED:20260225T175049Z
UID:16025-1773273600-1773359999@tiamoa.jp
SUMMARY:ちあぱー
DESCRIPTION:https://www.bear.cool/board-game/event/106898/info
URL:https://tiamoa.jp/event/%e3%81%a1%e3%81%82%e3%81%b1%e3%83%bc-14/
END:VEVENT
BEGIN:VEVENT
DTSTART;VALUE=DATE:20260313
DTEND;VALUE=DATE:20260314
DTSTAMP:20260425T225648
CREATED:20260228T082014Z
LAST-MODIFIED:20260306T112718Z
UID:16041-1773360000-1773446399@tiamoa.jp
SUMMARY:『無銭ぷろじぇくと!! vol.57』@GOTNDA G4
DESCRIPTION:⏰日時　3月13日（金）\n📝イベント名　\n💴料金　■通常エリアチケット：「0円」　■前方エリアチケット：2\,000円　■当日チケット：各種+1\,000円　※各種+2ドリンク　■再入場：可能（無料）\n🎫予約　paylove.org/events/1616\n🎫情報解禁　3月3日 19:00\n🎫チケ発　3月4日 19:00\n🎤LIVE　20:35〜20:50\n📸物販　終演後物販\n🎁指名特典　10秒動画\n📍会場　GOTNDA G4\n🚪開場　17:20\n💃開演　17:30
URL:https://tiamoa.jp/event/%e3%83%a9%e3%82%a4%e3%83%96gotnda-g4/
ATTACH;FMTTYPE=image/jpeg:https://tiamoa.jp/wp-content/uploads/無銭プロジェクト20260310_vol56-1.jpg
END:VEVENT
BEGIN:VEVENT
DTSTART;VALUE=DATE:20260314
DTEND;VALUE=DATE:20260315
DTSTAMP:20260425T225648
CREATED:20260228T021239Z
LAST-MODIFIED:20260306T080124Z
UID:16039-1773446400-1773532799@tiamoa.jp
SUMMARY:『UK祭』@中野坂上S.U.B
DESCRIPTION:⏰日時　3月14日(土)\n📝イベント名　『UK祭』\n💴料金　前方¥4\,000 一般¥2\,500　当日各+¥1\,000(+各1D)\n🎫予約　https://t-dv.com/UK_0314\n🎫情報解禁　3/6（金）17:00\n🎫チケ発　3/6（金）21:00\n🎤LIVE　12:25〜12:50\n📸物販　12:55〜13:55(A)\n🎁指名特典　2ショット写メ\n📍会場　中野坂上S.U.B\n🚪開場　11:00\n💃開演　11:10\n👩🏼‍💻出演　ちあもあ！/HEARLATE/にとくり。/縷々/ゼノシンフォニー/Claire♡Dolls/まほらな/踊れ！神風/My Starry Diary/Sunny spot/HERO CHARM/NO:VA/Varia Noise./Otomeria/ヤンチャン学園音楽部/antares/ToyTicTrap/きゅんぱに！/アスパルテーム/ステラリオン/ゆにきゅーと/アイビーの咲く頃に/YUMEADO CiTRON
URL:https://tiamoa.jp/event/%e3%83%a9%e3%82%a4%e3%83%96%e4%b8%ad%e9%87%8e%e5%9d%82%e4%b8%8as-u-b/
ATTACH;FMTTYPE=image/png:https://tiamoa.jp/wp-content/uploads/S__307814433.png
END:VEVENT
BEGIN:VEVENT
DTSTART;VALUE=DATE:20260315
DTEND;VALUE=DATE:20260316
DTSTAMP:20260425T225648
CREATED:20251129T100652Z
LAST-MODIFIED:20260309T162558Z
UID:15611-1773532800-1773619199@tiamoa.jp
SUMMARY:ちあもあ！1周年ワンマンライブ【白地図の彼方へ】@初台DOORS
DESCRIPTION:【概要】\n⏰日時　2026年3月15日(日)\n📝イベント名　ちあもあ！1周年ワンマンライブ【白地図の彼方へ】\n💴料金　(各D別)VIP: 20\,000/S:10\,000/A:3\,000/招待:1\,000/当日+1\,000\n🎫予約　https://livepocket.jp/e/tiamoa1\n🎫VIP楽屋ツアー開始時間　17:50〜整列開始、18:00にVIPの番号順にお呼びしてご案内いたします。(18:00に間に合わない場合はご対応できない場合が御座いますので、時間厳守でお願いいたします。予めご了承下さい。)\n🎤LIVE　19:00〜20:20(終演予定)\n📸物販　20:30-22:00\n📍会場　初台DOORS\n🚪開場　18:30\n🚪整列開始時間　18:20〜　※開演前は受付が混雑いたします。開演に間に合わない可能性もございますので、お時間に余裕をもってご来場ください。\n💃開演　19:00\n👩🏼‍💻出演　ちあもあ！ \n【チケット種別】\n▽VIP : ¥20\,000-(抽選、限定枚数)※販売終了\n・特典：周年記念限定集合デカチェキ、周年限定Tシャツ、当日のみ使える特典会ファストパス2枚、サインありチェキ券1枚、楽屋ツアー&挨拶&写メ撮影\n※1人1枚のみ申込と購入可能 \n▽S:¥10\,000-(限定枚数)\n・周年限定Tシャツ、当日のみ使える特典会ファストパス1枚、サインありチェキ券1枚 \n▽A:¥3\,000- \n▽招待:¥1\,000-\n※VIP、Sチケット購入者のみ購入可能\n※チケットに招待者のお名前をご記入下さい \n【チケット販売スケジュール】\n🎫紙チケット\n・特典会で販売中 \n🎫ネットチケットの販売期間\n・3/14.23:59まで\n(https://livepocket.jp/e/tiamoa1) \n【入場順】\nVIP番号順→S紙番号順→Sネット番号順→A紙番号順→Aネット番号順→当日券、招待券並び順 \n【ライブ会場のエリア分けについて】\n \n【招待特典】\n⚠️ポイント消化式(招待1人に対して1ポイント特典と引き換え) (例：33人招待の場合 ⚠️基本後日、当日特典会の受付にて引き換えを行いますが、一度交換に使用した「招待の確認をするためのチケットの半券」は返却が出来ません。不正防止のためご協力お願いいたします。\n▶︎30人特典+3人特典GET (プロデューサーに直接交渉権+メンバー5人の1年振り返り座談会動画（15分程度）) \n1：2Lブロマイド＋ステッカー（※1人1回まで）\n※注意：こちらの特典のみ例外なく、原則1人に対して引き換えは一つまでになります！\n3：メンバー5人の1年振り返り座談会動画（15分程度）\n5：推しメンからのオリジナル動画(約5分)\n10：推しメンからの直筆お手紙\n30：プロデューサーに直接交渉権 \n【1周年記念グッズ】\n・1周年デザインTシャツ(イラスト:絢深りっか)\n・「ちあもあの日常」book(イラスト:絢深りっか)\n・1周年記念ランダムブロマイド\n・1周年記念ランダム缶バッジ\n・1周年記念デジタルフォトブック\n・各メンバー録り下ろし歌唱データ\n(変更になる場合もございます)\n⬇️１周年記念グッズ販売のオンラインショップはこちらから\nhttps://tiamoa.base.shop/ \n【会場への案内】\n\n京王新線「初台」駅、甲州街道北口より徒歩30秒\n※京王新線「新宿」駅より1駅。\n京王線「新宿」駅とは場所が違いますのでお気をつけ下さい。\n調布方面よりお越しの方は「笹塚」駅でお乗り換え下さい。
URL:https://tiamoa.jp/event/tiamoa1oneman/
ATTACH;FMTTYPE=image/jpeg:https://tiamoa.jp/wp-content/uploads/HCp-dkqaQAA3VyG.jpg
END:VEVENT
BEGIN:VEVENT
DTSTART;VALUE=DATE:20260326
DTEND;VALUE=DATE:20260327
DTSTAMP:20260425T225648
CREATED:20260225T175115Z
LAST-MODIFIED:20260225T175115Z
UID:16027-1774483200-1774569599@tiamoa.jp
SUMMARY:ちあぱー
DESCRIPTION:https://www.bear.cool/board-game/event/106899/info
URL:https://tiamoa.jp/event/%e3%81%a1%e3%81%82%e3%81%b1%e3%83%bc-15/
END:VEVENT
END:VCALENDAR