BEGIN:VCALENDAR
VERSION:2.0
PRODID:-//ちあもあ - ECPv6.11.2//NONSGML v1.0//EN
CALSCALE:GREGORIAN
METHOD:PUBLISH
X-WR-CALNAME:ちあもあ
X-ORIGINAL-URL:https://tiamoa.jp
X-WR-CALDESC:ちあもあ のイベント
REFRESH-INTERVAL;VALUE=DURATION:PT1H
X-Robots-Tag:noindex
X-PUBLISHED-TTL:PT1H
BEGIN:VTIMEZONE
TZID:Asia/Tokyo
BEGIN:STANDARD
TZOFFSETFROM:+0900
TZOFFSETTO:+0900
TZNAME:JST
DTSTART:20250101T000000
END:STANDARD
END:VTIMEZONE
BEGIN:VEVENT
DTSTART;VALUE=DATE:20251028
DTEND;VALUE=DATE:20251029
DTSTAMP:20260426T061325
CREATED:20251025T105502Z
LAST-MODIFIED:20251027T154204Z
UID:15447-1761609600-1761695999@tiamoa.jp
SUMMARY:AKIBAドリームライブ＠秋葉原Venus
DESCRIPTION:⏰日時　10月28日(火)\n📝イベント名　AKIBAドリームライブ\n💴料金　予約2400円＋1D別(当日+1000円)\n🎫予約　　https://docs.google.com/forms/d/e/1FAIpQLSc0CoF1D7qjQ_olgW-9Ff2fsFyPFiPue4tT-id7aXKM2NcUWw/viewform\n🎤LIVE　20:30〜21:00\n📸物販　終演後物販\n🎁指名特典　🎁お菓子💟\n📍会場　秋葉原Venus\n🚪開場　19:10\n💃開演　19:30\n👩🏼‍💻出演　ちあもあ！他
URL:https://tiamoa.jp/event/%e3%83%a9%e3%82%a4%e3%83%96%ef%bc%a0%e7%a7%8b%e8%91%89%e5%8e%9f/
ATTACH;FMTTYPE=image/jpeg:https://tiamoa.jp/wp-content/uploads/S__31621154.jpg
END:VEVENT
END:VCALENDAR