BEGIN:VCALENDAR
VERSION:2.0
PRODID:-//ちあもあ - ECPv6.11.2//NONSGML v1.0//EN
CALSCALE:GREGORIAN
METHOD:PUBLISH
X-WR-CALNAME:ちあもあ
X-ORIGINAL-URL:https://tiamoa.jp
X-WR-CALDESC:ちあもあ のイベント
REFRESH-INTERVAL;VALUE=DURATION:PT1H
X-Robots-Tag:noindex
X-PUBLISHED-TTL:PT1H
BEGIN:VTIMEZONE
TZID:Asia/Tokyo
BEGIN:STANDARD
TZOFFSETFROM:+0900
TZOFFSETTO:+0900
TZNAME:JST
DTSTART:20250101T000000
END:STANDARD
END:VTIMEZONE
BEGIN:VEVENT
DTSTART;VALUE=DATE:20251103
DTEND;VALUE=DATE:20251104
DTSTAMP:20260426T061345
CREATED:20251016T172253Z
LAST-MODIFIED:20251031T030742Z
UID:15362-1762128000-1762214399@tiamoa.jp
SUMMARY:紫遊ゆいか First birthday live　あなたの目線を独占しちゃうぞ＠秋葉原Galaxy
DESCRIPTION:⏰日時　11/3(祝月)\n📝イベント名　紫遊ゆいか First birthday live　あなたの目線を独占しちゃうぞ\n💴料金　3000円+1D (当日+1000円)\n🎫予約　https://tiget.net/events/439658\n🎤LIVE　20:15〜21:00\n📸物販　終演後物販\n📍会場　秋葉原Galaxy\n🚪開場　16:30\n💃開演　17:00\n👩🏼‍💻出演　ちあもあ！、紫遊ゆいか、RhyzBeat、オトプロ、ゆあどーる、NEO CHARM
URL:https://tiamoa.jp/event/%e3%83%a9%e3%82%a4%e3%83%96%ef%bc%a0%e7%a7%8b%e8%91%89%e5%8e%9fgalaxy/
ATTACH;FMTTYPE=image/jpeg:https://tiamoa.jp/wp-content/uploads/S__31678473.jpg
END:VEVENT
END:VCALENDAR