BEGIN:VCALENDAR
VERSION:2.0
PRODID:-//ちあもあ - ECPv6.11.2//NONSGML v1.0//EN
CALSCALE:GREGORIAN
METHOD:PUBLISH
X-WR-CALNAME:ちあもあ
X-ORIGINAL-URL:https://tiamoa.jp
X-WR-CALDESC:ちあもあ のイベント
REFRESH-INTERVAL;VALUE=DURATION:PT1H
X-Robots-Tag:noindex
X-PUBLISHED-TTL:PT1H
BEGIN:VTIMEZONE
TZID:Asia/Tokyo
BEGIN:STANDARD
TZOFFSETFROM:+0900
TZOFFSETTO:+0900
TZNAME:JST
DTSTART:20250101T000000
END:STANDARD
END:VTIMEZONE
BEGIN:VEVENT
DTSTART;VALUE=DATE:20251109
DTEND;VALUE=DATE:20251110
DTSTAMP:20260426T061443
CREATED:20251023T022001Z
LAST-MODIFIED:20251106T110023Z
UID:15425-1762646400-1762732799@tiamoa.jp
SUMMARY:『IDOL FABRIC vol.9』＠新宿DHNoA
DESCRIPTION:⏰日時　11月9日(日)\n📝イベント名　『IDOL FABRIC vol.9』\n💴料金　前売　前方4\,500円/一般1\,109円（各+1D）　当日　前方5\,000円/一般2\,000円（各+1D）\n🎫予約　https://t-dv.com/idolfabric9\n🎤LIVE　17:00〜17:20\n📸物販　17:30〜18:30(A)\n🎁指名特典　10秒動画\n📍会場　新宿DHNoA\n🚪開場　9:30\n💃開演　9:45\n👩🏼‍💻出演　ちあもあ！/I♡tube/アイドルキャリア/idoress/青山Rabness/Arno/&and/vVibe!/煌きメリー☆ボップ/偶像リユニオン/最愛のマルベリー/さいしゅん！/SUPER REPLiCA/宇宙カラノ侵略者/TIGHT/Tool to/DOKUDOKU/日曜日の起死回生/Newヒロイン/NEO EARTH!!/はいどーも！テラスマです！/ぴ〜ちくぱ〜ちく/ビビきたッ！！/ひめもすオーケストラ/HEROINE CIRCUS/僕らのコミューン/瞬きのネビュラ/Misty Syrena/LOVE SPEARS/RUN WiTH YOU/ReverseTokyo/れんてつ/wqwq
URL:https://tiamoa.jp/event/%e3%83%a9%e3%82%a4%e3%83%96%ef%bc%a0%e6%96%b0%e5%ae%bfdhnoa/
ATTACH;FMTTYPE=image/png:https://tiamoa.jp/wp-content/uploads/IMG_3352.png
END:VEVENT
BEGIN:VEVENT
DTSTART;VALUE=DATE:20251109
DTEND;VALUE=DATE:20251110
DTSTAMP:20260426T061443
CREATED:20251023T021545Z
LAST-MODIFIED:20251106T081923Z
UID:15419-1762646400-1762732799@tiamoa.jp
SUMMARY:『NEXUS vol.02』＠秋葉原GALAXY
DESCRIPTION:⏰日時　11月9日(日)\n📝イベント名　『NEXUS vol.02』\n💴料金　前売 2400/当日 2900 (いずれも＋1drink)\n🎫予約　　https://tiget.net/events/435832\n🎤LIVE　13:20〜13:35\n📸物販　終演後物販\n🎁指名特典　2ショット写メ\n📍会場　秋葉原GALAXY\n🚪開場　10:45\n💃開演　11:00\n👩🏼‍💻出演　ちあもあ！、黒翼のクロニクル　 、ねむロイド 、ビビきたッ！！ 、しえる♡de♡ね〜じゅ 、Crazy Fantasy、水葵綺乃 (＋AiR )、一凛 (＋AiR )、ripple link 、Once Upon a Time 、寺井智子　
URL:https://tiamoa.jp/event/%e3%80%8enexus-vol-02%e3%80%8f%ef%bc%a0%e7%a7%8b%e8%91%89%e5%8e%9fgalaxy-2/
ATTACH;FMTTYPE=image/png:https://tiamoa.jp/wp-content/uploads/befded4d-096e-43c0-9874-37663e9f75a9.png
END:VEVENT
END:VCALENDAR