BEGIN:VCALENDAR
VERSION:2.0
PRODID:-//ちあもあ - ECPv6.11.2//NONSGML v1.0//EN
CALSCALE:GREGORIAN
METHOD:PUBLISH
X-WR-CALNAME:ちあもあ
X-ORIGINAL-URL:https://tiamoa.jp
X-WR-CALDESC:ちあもあ のイベント
REFRESH-INTERVAL;VALUE=DURATION:PT1H
X-Robots-Tag:noindex
X-PUBLISHED-TTL:PT1H
BEGIN:VTIMEZONE
TZID:Asia/Tokyo
BEGIN:STANDARD
TZOFFSETFROM:+0900
TZOFFSETTO:+0900
TZNAME:JST
DTSTART:20250101T000000
END:STANDARD
END:VTIMEZONE
BEGIN:VEVENT
DTSTART;VALUE=DATE:20251116
DTEND;VALUE=DATE:20251117
DTSTAMP:20260426T061346
CREATED:20251025T111311Z
LAST-MODIFIED:20251116T073615Z
UID:15461-1763251200-1763337599@tiamoa.jp
SUMMARY:RED SHEEP PROJECT ×OTONOVA 2回戦＠秋葉原Venus
DESCRIPTION:⏰日時　11月16日(日)\n📝イベント名　RED SHEEP PROJECT ×OTONOVA 2回戦\n💴料金　予約3000円＋D別(当日+1000円)　※予選A.B同時開催の為、金の投票券は2枚配布します。各予選1枚のみ投票可能\n🎫予約　https://tiget.net/events/439901　\n🗳️投票ページAブロック　https://mudia.tv/event/4685\n🗳️投票ページBブロック　https://mudia.tv/event/4686\n🎤LIVE　17:50〜18:10\n📸物販　18:15〜19:15\n📸物販　18:15〜19:15\n🎁指名特典　集合写メ、オリジナル1分動画\n🌟事前予約特典\n・条件：以下の調整さんへ「行くよ」の報告を11/15.23:59までに入力された方\n・リンク：https://chouseisan.com/s?h=3482e3b95fee4db78c5af0d2c380ced8\n・特典：推しメンからのお手紙\n📍会場　秋葉原Venus\n🚪開場　16:00\n💃開演　16:20\n👩🏼‍💻出演　予選A　ちあもあ！、Rosebeat、UNKNOWN、愛Ris、小夏みなみ\n　　　　予選B　ずんだ茜、、ゆみざわ、#あいり〜む、汐 思妃、FandL\n　　　　MC ポMカズダイ
URL:https://tiamoa.jp/event/%e3%83%a9%e3%82%a4%e3%83%96/
ATTACH;FMTTYPE=image/jpeg:https://tiamoa.jp/wp-content/uploads/G5Kzn69bkAA-mZA.jpeg
END:VEVENT
END:VCALENDAR