BEGIN:VCALENDAR
VERSION:2.0
PRODID:-//ちあもあ - ECPv6.11.2//NONSGML v1.0//EN
CALSCALE:GREGORIAN
METHOD:PUBLISH
X-WR-CALNAME:ちあもあ
X-ORIGINAL-URL:https://tiamoa.jp
X-WR-CALDESC:ちあもあ のイベント
REFRESH-INTERVAL;VALUE=DURATION:PT1H
X-Robots-Tag:noindex
X-PUBLISHED-TTL:PT1H
BEGIN:VTIMEZONE
TZID:Asia/Tokyo
BEGIN:STANDARD
TZOFFSETFROM:+0900
TZOFFSETTO:+0900
TZNAME:JST
DTSTART:20250101T000000
END:STANDARD
END:VTIMEZONE
BEGIN:VEVENT
DTSTART;VALUE=DATE:20251126
DTEND;VALUE=DATE:20251127
DTSTAMP:20260426T061345
CREATED:20251018T063641Z
LAST-MODIFIED:20251115T064738Z
UID:15367-1764115200-1764201599@tiamoa.jp
SUMMARY:『IDOL GARDEN PLACE』＠GOTANDA G3
DESCRIPTION:⏰日時　11月26日（水）\n📝イベント名　『IDOL GARDEN PLACE』\n💴料金　前方Sチケット¥4\,000 / 一般Aチケット¥2\,500/※各1D　当日各＋1\,000円\n🎫予約　https://t.livepocket.jp/e/igp_1126\n🎫情報解禁　11月15日（土）20:00\n🎫チケ発　11月15日（土）23:00\n🎤LIVE　18:00〜18:25\n📸物販　18:30〜19:30(A)\n🎁指名特典　2ショット写メ\n📍会場　GOTANDA G3\n🚪開場　16:25\n💃開演　16:45\n👩🏼‍💻出演　ちあもあ！/NO:VA/neOen/LOVE IT’S/Otomeria/青春リグレット/セカモノ/ステラリオン/√REAL ｰルートリアルｰ/LittleSignal/尾崎ヒカル‬
URL:https://tiamoa.jp/event/%e3%83%a9%e3%82%a4%e3%83%96%ef%bc%a0gotanda-g3/
ATTACH;FMTTYPE=image/png:https://tiamoa.jp/wp-content/uploads/S__298623013.png
END:VEVENT
END:VCALENDAR