BEGIN:VCALENDAR
VERSION:2.0
PRODID:-//ちあもあ - ECPv6.11.2//NONSGML v1.0//EN
CALSCALE:GREGORIAN
METHOD:PUBLISH
X-ORIGINAL-URL:https://tiamoa.jp
X-WR-CALDESC:ちあもあ のイベント
REFRESH-INTERVAL;VALUE=DURATION:PT1H
X-Robots-Tag:noindex
X-PUBLISHED-TTL:PT1H
BEGIN:VTIMEZONE
TZID:Asia/Tokyo
BEGIN:STANDARD
TZOFFSETFROM:+0900
TZOFFSETTO:+0900
TZNAME:JST
DTSTART:20250101T000000
END:STANDARD
END:VTIMEZONE
BEGIN:VEVENT
DTSTART;VALUE=DATE:20251128
DTEND;VALUE=DATE:20251129
DTSTAMP:20260426T061506
CREATED:20251025T110011Z
LAST-MODIFIED:20251121T092200Z
UID:15453-1764288000-1764374399@tiamoa.jp
SUMMARY:ちあもあ！ぱーてぃー＠池袋Lavis
DESCRIPTION:⏰日時　11月28日(金)\n📝イベント名　ちあもあ！ぱーてぃー\n💴料金　3\,000円＋1D 有料配信あり(2\,000円/2週間アーカイブ付き)\n🎫予約　https://forms.gle/5NJLuoiys1nZb4au6\n🎁指名特典　誰が誰やら選手権でも使える豪華オリジナルチェキ\n📍会場　池袋Lavis\n🚪開場　19:30\n👩🏼‍💻出演　ちあもあ！
URL:https://tiamoa.jp/event/%e3%83%95%e3%82%a1%e3%83%b3%e3%83%9f%e3%83%bc%e3%83%86%e3%82%a3%e3%83%b3%e3%82%b0/
ATTACH;FMTTYPE=image/png:https://tiamoa.jp/wp-content/uploads/見出しを追加-7.png
END:VEVENT
END:VCALENDAR