BEGIN:VCALENDAR
VERSION:2.0
PRODID:-//ちあもあ - ECPv6.11.2//NONSGML v1.0//EN
CALSCALE:GREGORIAN
METHOD:PUBLISH
X-ORIGINAL-URL:https://tiamoa.jp
X-WR-CALDESC:ちあもあ のイベント
REFRESH-INTERVAL;VALUE=DURATION:PT1H
X-Robots-Tag:noindex
X-PUBLISHED-TTL:PT1H
BEGIN:VTIMEZONE
TZID:Asia/Tokyo
BEGIN:STANDARD
TZOFFSETFROM:+0900
TZOFFSETTO:+0900
TZNAME:JST
DTSTART:20250101T000000
END:STANDARD
END:VTIMEZONE
BEGIN:VEVENT
DTSTART;VALUE=DATE:20251129
DTEND;VALUE=DATE:20251130
DTSTAMP:20260426T061507
CREATED:20251018T063750Z
LAST-MODIFIED:20251128T090722Z
UID:15369-1764374400-1764460799@tiamoa.jp
SUMMARY:『UK祭-上昇-』＠GOTANDA G4
DESCRIPTION:⏰日時　11月29日（土）\n📝イベント名　『UK祭-上昇-』\n💴料金　(前売り)前方Sチケット4\,000円 　(前売り)一般Aチケット2\,500円 　(当日券)各+1\,000円　(入場時1ドリンク代必須)\n🎫予約　https://t.livepocket.jp/e/uk_1129\n🎫情報解禁　11月20日（木）18:00\n🎫チケ発　11月20日（木）22:00\n🎤LIVE　11:10〜11:35\n📸物販　11:40〜12:40(B)\n🎁指名特典　2ショット写メ\n📍会場　GOTANDA G4\n🚪開場　10:30\n💃開演　10:45\n👩🏼‍💻出演　ちあもあ！/ストロボグリッター/フィルフェリーチェ/踊れ！神風/NO:VA/HIRAETH.Tokyo/ステラリオン/LOVE IT’S/Claire♡Dolls/ペりきゅらむ/真夜中のメリーゴーランド/ちあもあ！/バブルバビデガム∀/アイスクリーム夢少女/キュン⁉︎恋堕ちキューピッド/くれよんちゅ～どく/embellir/撫子の音返し/異国のルミナリア/きゅーんず！/キュータルチェ/きっと大切だった/尾崎ヒカル/I’LL/君と青/露光時間
URL:https://tiamoa.jp/event/%e3%83%a9%e3%82%a4%e3%83%96%ef%bc%a0gotanda-g4/
ATTACH;FMTTYPE=image/png:https://tiamoa.jp/wp-content/uploads/外伝-5.png
END:VEVENT
END:VCALENDAR