BEGIN:VCALENDAR
VERSION:2.0
PRODID:-//ちあもあ - ECPv6.11.2//NONSGML v1.0//EN
CALSCALE:GREGORIAN
METHOD:PUBLISH
X-WR-CALNAME:ちあもあ
X-ORIGINAL-URL:https://tiamoa.jp
X-WR-CALDESC:ちあもあ のイベント
REFRESH-INTERVAL;VALUE=DURATION:PT1H
X-Robots-Tag:noindex
X-PUBLISHED-TTL:PT1H
BEGIN:VTIMEZONE
TZID:Asia/Tokyo
BEGIN:STANDARD
TZOFFSETFROM:+0900
TZOFFSETTO:+0900
TZNAME:JST
DTSTART:20250101T000000
END:STANDARD
END:VTIMEZONE
BEGIN:VEVENT
DTSTART;VALUE=DATE:20251213
DTEND;VALUE=DATE:20251214
DTSTAMP:20260426T045405
CREATED:20251025T110123Z
LAST-MODIFIED:20251209T075546Z
UID:15455-1765584000-1765670399@tiamoa.jp
SUMMARY:ちあもあ！ 柚井ゆい生誕祭「ゆいゆい展」＠秋葉原Galaxy
DESCRIPTION:⏰日時　2025年12月13日(土)\n📝イベント名　ちあもあ！ 柚井ゆい生誕祭「ゆいゆい展」\n💴料金　Sチケット10\,000円/Aチケット3\,000円/招待チケット1\,000円/当日＋500(各D別)\n(招待:Sチケ購入者のみ購入可)\n🎫予約　https://t.livepocket.jp/e/yuiyuiseitannsai1213\n🎫下記販売スケジュール参照\n🎫情報解禁　11/3.14:30〜\n🎫チケ発　下記販売スケジュール参照\n🎤LIVE　11:00-11:20 柚井ゆい、13:20-13:50 ちあもあ！\n📸物販　11:45-12:45 柚井ゆい中物販、13:55-15:00 終演後物販\n📍会場　秋葉原Galaxy\n🚪開場　10:30\n💃開演　11:00\n👩🏼‍💻出演　ちあもあ！、他 \n【チケット種別】\n▽Sチケット\n・前方エリア＋優先入場\n・当日のみファストパス券1枚\n・サイン付き生誕ブロマイド1枚\n・生誕Tシャツ(XLのみ) \n▽Aチケット \n▽招待チケット \n【チケット、グッズ等販売スケジュール】\n🎫紙チケット\n・2025年11月3日「紫遊ゆいか First birthday live　あなたの目線を独占しちゃうぞ」の特典会から販売開始 \n🎫ネットチケット、ネットでのグッズ販売スケジュール\n・2025年11月3日 22:00 販売開始\n・ネットチケット販売　URL　https://t.livepocket.jp/e/yuiyuiseitannsai1213\n・ネットでのグッズ販売　URL　tiamoa.base.shop \n【入場順】\nS紙番号順→Sネット番号順→A紙番号順→Aネット番号順→当日券、招待並び順 \n【生誕グッズ】\n・coming soon \n【生誕祭 招待特典について】\n⚠️ポイント消化式(招待1人に対して1ポイント特典と引き換え)\n⚠️当日特典会の受付にて引き換えを行いますが、一度交換に使用した「招待の確認をするためのチケットの半券」は返却が出来ません。不正防止のためご協力お願いいたします。\n(例：33人招待の場合\n▶30人特典+3人特典GET ) \n1：柚井ゆい生誕限定ブロマイド＆サイン券\n※注意：こちらの特典のみ例外なく、原則1人に対して引き換えは一つまでになります。例：3ポイント分あるから三つください、は出来ません。\n3：1分間写メ撮り放題券(カメラ可)\n5：宿題チェキ券\n10：柚井ゆいからのお手紙\n15：柚井ゆいとおさんぽ会券(1h、撮影不可)\n※譲渡・転売・複製禁止
URL:https://tiamoa.jp/event/%e3%83%a9%e3%82%a4%e3%83%96%ef%bc%a0%e7%a7%8b%e8%91%89%e5%8e%9f-2/
ATTACH;FMTTYPE=image/jpeg:https://tiamoa.jp/wp-content/uploads/i4QAjD5O3sRGymhMzlXif2LUiuIJnOfV0aFED1Od1FUlTiwAInCsW2nTYdAhpKPB.jpeg
END:VEVENT
END:VCALENDAR