BEGIN:VCALENDAR
VERSION:2.0
PRODID:-//ちあもあ - ECPv6.11.2//NONSGML v1.0//EN
CALSCALE:GREGORIAN
METHOD:PUBLISH
X-ORIGINAL-URL:https://tiamoa.jp
X-WR-CALDESC:ちあもあ のイベント
REFRESH-INTERVAL;VALUE=DURATION:PT1H
X-Robots-Tag:noindex
X-PUBLISHED-TTL:PT1H
BEGIN:VTIMEZONE
TZID:Asia/Tokyo
BEGIN:STANDARD
TZOFFSETFROM:+0900
TZOFFSETTO:+0900
TZNAME:JST
DTSTART:20250101T000000
END:STANDARD
END:VTIMEZONE
BEGIN:VEVENT
DTSTART;VALUE=DATE:20251215
DTEND;VALUE=DATE:20251216
DTSTAMP:20260426T045516
CREATED:20251025T111043Z
LAST-MODIFIED:20251215T021535Z
UID:15457-1765756800-1765843199@tiamoa.jp
SUMMARY:シブヤDOMINION　13th anniversary live〜シブヤHISTORY〜＠SHIBUYA RING
DESCRIPTION:⏰日時　12月15日(月)\n📝イベント名　シブヤDOMINION　13th anniversary live〜シブヤHISTORY〜\n💴料金　一般/¥2\,500　プレミア/¥12\,000(+各1D)\n🎫予約　http://tiget.net/events/442231\n🎤LIVE　17:50〜18:10\n📸物販　18:15〜19:15(4F A)\n🎁指名特典　10秒動画\n📍会場　SHIBUYA RING\n🚪開場　17:00\n💃開演　17:30\n👩🏼‍💻出演　ちあもあ！　他
URL:https://tiamoa.jp/event/%e3%83%a9%e3%82%a4%e3%83%96%ef%bc%a0%e6%b8%8b%e8%b0%b7ring/
ATTACH;FMTTYPE=image/jpeg:https://tiamoa.jp/wp-content/uploads/S__23634173.jpg
END:VEVENT
END:VCALENDAR