BEGIN:VCALENDAR
VERSION:2.0
PRODID:-//ちあもあ - ECPv6.11.2//NONSGML v1.0//EN
CALSCALE:GREGORIAN
METHOD:PUBLISH
X-ORIGINAL-URL:https://tiamoa.jp
X-WR-CALDESC:ちあもあ のイベント
REFRESH-INTERVAL;VALUE=DURATION:PT1H
X-Robots-Tag:noindex
X-PUBLISHED-TTL:PT1H
BEGIN:VTIMEZONE
TZID:Asia/Tokyo
BEGIN:STANDARD
TZOFFSETFROM:+0900
TZOFFSETTO:+0900
TZNAME:JST
DTSTART:20250101T000000
END:STANDARD
END:VTIMEZONE
BEGIN:VEVENT
DTSTART;VALUE=DATE:20251219
DTEND;VALUE=DATE:20251220
DTSTAMP:20260426T045425
CREATED:20251025T111144Z
LAST-MODIFIED:20251025T111144Z
UID:15459-1766102400-1766188799@tiamoa.jp
SUMMARY:ファンミーティング＠池袋Lavis
DESCRIPTION:
URL:https://tiamoa.jp/event/%e3%83%95%e3%82%a1%e3%83%b3%e3%83%9f%e3%83%bc%e3%83%86%e3%82%a3%e3%83%b3%e3%82%b0%ef%bc%a0%e6%b1%a0%e8%a2%8blavis/
END:VEVENT
END:VCALENDAR