BEGIN:VCALENDAR
VERSION:2.0
PRODID:-//ちあもあ - ECPv6.11.2//NONSGML v1.0//EN
CALSCALE:GREGORIAN
METHOD:PUBLISH
X-WR-CALNAME:ちあもあ
X-ORIGINAL-URL:https://tiamoa.jp
X-WR-CALDESC:ちあもあ のイベント
REFRESH-INTERVAL;VALUE=DURATION:PT1H
X-Robots-Tag:noindex
X-PUBLISHED-TTL:PT1H
BEGIN:VTIMEZONE
TZID:Asia/Tokyo
BEGIN:STANDARD
TZOFFSETFROM:+0900
TZOFFSETTO:+0900
TZNAME:JST
DTSTART:20250101T000000
END:STANDARD
END:VTIMEZONE
BEGIN:VEVENT
DTSTART;VALUE=DATE:20251222
DTEND;VALUE=DATE:20251223
DTSTAMP:20260426T061345
CREATED:20251202T132807Z
LAST-MODIFIED:20251221T004639Z
UID:15654-1766361600-1766447999@tiamoa.jp
SUMMARY:一ノ瀬絵里生誕祭　AKIBAドリームライブ＠秋葉原GALAXY
DESCRIPTION:⏰日時　12月27日(土)\n📝イベント名　一ノ瀬絵里生誕祭　AKIBAドリームライブ\n💴料金　予約2500円+1D (当日+1000円)\n🎫予約　https://tiget.net/events/453317\n🎤LIVE　20:00〜20:30\n📸物販　21:05〜22:05\n🎁指名特典　TikTok撮影\n📍会場　秋葉原GALAXY\n🚪開場　18:40\n💃開演　19:00\n👩🏼‍💻出演　ちあもあ！、Tritone、大弓ほのか、超ねこぱーてぃー
URL:https://tiamoa.jp/event/%e3%83%a9%e3%82%a4%e3%83%96%ef%bc%a0%e7%a7%8b%e8%91%89%e5%8e%9fgalaxy-4/
ATTACH;FMTTYPE=image/jpeg:https://tiamoa.jp/wp-content/uploads/S__32620662.jpg
END:VEVENT
END:VCALENDAR