BEGIN:VCALENDAR
VERSION:2.0
PRODID:-//ちあもあ - ECPv6.11.2//NONSGML v1.0//EN
CALSCALE:GREGORIAN
METHOD:PUBLISH
X-WR-CALNAME:ちあもあ
X-ORIGINAL-URL:https://tiamoa.jp
X-WR-CALDESC:ちあもあ のイベント
REFRESH-INTERVAL;VALUE=DURATION:PT1H
X-Robots-Tag:noindex
X-PUBLISHED-TTL:PT1H
BEGIN:VTIMEZONE
TZID:Asia/Tokyo
BEGIN:STANDARD
TZOFFSETFROM:+0900
TZOFFSETTO:+0900
TZNAME:JST
DTSTART:20260101T000000
END:STANDARD
END:VTIMEZONE
BEGIN:VEVENT
DTSTART;VALUE=DATE:20260108
DTEND;VALUE=DATE:20260109
DTSTAMP:20260426T032203
CREATED:20251211T093847Z
LAST-MODIFIED:20260106T205224Z
UID:15694-1767830400-1767916799@tiamoa.jp
SUMMARY:ちあぱー
DESCRIPTION:👩🏼‍💻出演　紫遊ゆいか、柚井ゆい
URL:https://tiamoa.jp/event/%e3%81%a1%e3%81%82%e3%81%b1%e3%83%bc-5/
END:VEVENT
END:VCALENDAR