BEGIN:VCALENDAR
VERSION:2.0
PRODID:-//ちあもあ - ECPv6.11.2//NONSGML v1.0//EN
CALSCALE:GREGORIAN
METHOD:PUBLISH
X-ORIGINAL-URL:https://tiamoa.jp
X-WR-CALDESC:ちあもあ のイベント
REFRESH-INTERVAL;VALUE=DURATION:PT1H
X-Robots-Tag:noindex
X-PUBLISHED-TTL:PT1H
BEGIN:VTIMEZONE
TZID:Asia/Tokyo
BEGIN:STANDARD
TZOFFSETFROM:+0900
TZOFFSETTO:+0900
TZNAME:JST
DTSTART:20260101T000000
END:STANDARD
END:VTIMEZONE
BEGIN:VEVENT
DTSTART;VALUE=DATE:20260111
DTEND;VALUE=DATE:20260112
DTSTAMP:20260426T033112
CREATED:20251023T023024Z
LAST-MODIFIED:20260107T101619Z
UID:15433-1768089600-1768175999@tiamoa.jp
SUMMARY:あーりん&かひあ生誕祭~HappySweetParty~＠秋葉原Galaxy
DESCRIPTION:⏰日時　1月11日(日)\n📝イベント名　あーりん&かひあ生誕祭~HappySweetParty~\n💴料金　前売 ¥3000 / 当日 ¥3500(+d代)\n🎫予約　https://tiget.net/events/450208　\n🎤LIVE　11:55~12:15\n📸物販　終演後物販\n🎁指名特典　2ショット写メ\n📍会場　秋葉原Galaxy\n🚪開場　11:00\n💃開演　11:15\n👩🏼‍💻出演　ちあもあ！、キミリセット、idoress、参宮橋駅前女子、ポジティブモンスター、Fortuness
URL:https://tiamoa.jp/event/%e3%83%a9%e3%82%a4%e3%83%96%ef%bc%a0-3/
ATTACH;FMTTYPE=image/jpeg:https://tiamoa.jp/wp-content/uploads/LINE_20260107_191234.jpg
END:VEVENT
BEGIN:VEVENT
DTSTART;VALUE=DATE:20260111
DTEND;VALUE=DATE:20260112
DTSTAMP:20260426T033112
CREATED:20251023T022921Z
LAST-MODIFIED:20260105T074155Z
UID:15431-1768089600-1768175999@tiamoa.jp
SUMMARY:やぶとメルト！生誕祭＠秋葉原GALAXY
DESCRIPTION:⏰日時　1月11日(日)\n📝イベント名　やぶとメルト！生誕祭\n💴料金　予約3000円+1D (当日+1000円)\n🎫予約　https://forms.gle/bGAQtbkxwKmP5rbMA\n🎤LIVE　20:10〜20:50\n📸物販　終演後物販\n🎁指名特典　年賀状風ポストカード、生誕チケットレプリカ\n📍会場　秋葉原GALAXY\n🚪開場　16:00\n💃開演　16:20\n👩🏼‍💻出演　ちあもあ！、絢深りっか、ゆずのてんぷら、Fortuness、残響のリフレイン、Rhyz Beat、HAS
URL:https://tiamoa.jp/event/%e3%83%a9%e3%82%a4%e3%83%96%ef%bc%a0%e7%a7%8b%e8%91%89%e5%8e%9fgalaxy-2/
ATTACH;FMTTYPE=image/jpeg:https://tiamoa.jp/wp-content/uploads/S__33046534.jpg
END:VEVENT
END:VCALENDAR