BEGIN:VCALENDAR
VERSION:2.0
PRODID:-//ちあもあ - ECPv6.11.2//NONSGML v1.0//EN
CALSCALE:GREGORIAN
METHOD:PUBLISH
X-WR-CALNAME:ちあもあ
X-ORIGINAL-URL:https://tiamoa.jp
X-WR-CALDESC:ちあもあ のイベント
REFRESH-INTERVAL;VALUE=DURATION:PT1H
X-Robots-Tag:noindex
X-PUBLISHED-TTL:PT1H
BEGIN:VTIMEZONE
TZID:Asia/Tokyo
BEGIN:STANDARD
TZOFFSETFROM:+0900
TZOFFSETTO:+0900
TZNAME:JST
DTSTART:20260101T000000
END:STANDARD
END:VTIMEZONE
BEGIN:VEVENT
DTSTART;VALUE=DATE:20260125
DTEND;VALUE=DATE:20260126
DTSTAMP:20260426T032959
CREATED:20251204T093539Z
LAST-MODIFIED:20260123T030546Z
UID:15663-1769299200-1769385599@tiamoa.jp
SUMMARY:『NIPPON MUSIC JAM mini』＠中野坂上S.U.B
DESCRIPTION:⏰日時　1月25日（日）\n📝イベント名　『NIPPON MUSIC JAM mini』\n💴料金　(前売り)前方Sチケット3\,500円 当日券4\,500円、(前売り)一般Aチケット2\,500円 当日券3\,500円\n🎫予約　https://t-dv.com/nmj_0125\n🎫情報解禁　1月16日（金）18:00\n🎫チケ発　1月16日（金）22:00\n🎤LIVE　19:00〜19:20\n📸物販　19:50〜20:50(A)\n🎁指名特典　2ショット写メ\n📍会場　中野坂上S.U.B\n🚪開場　11:30\n💃開演　11:50\n👩🏼‍💻出演　ちあもあ！/きゅーんず/踊れ！神風/Otomeria/NO:VA/neOen/ステラリオン/LittleSignal/KITTIES/バブルバビデガム∀/アイスクリーム夢少女/KOIHAJI/ヤンチャン学園音楽部/AMY./antares/LumiDay/OTOMICHI/煌きメリー☆ボップ/Lilite tune/TEARS-ティアーズ-/にとくり。/Sistersあにま/蓋然性オルトイズム/キュータルチェ/HIRAETH.Tokyo/尾崎ヒカル
URL:https://tiamoa.jp/event/%e3%83%a9%e3%82%a4%e3%83%96%ef%bc%a0%e4%b8%ad%e9%87%8e%e5%9d%82%e4%b8%8as-u-b-3/
ATTACH;FMTTYPE=image/jpeg:https://tiamoa.jp/wp-content/uploads/0122ver.-0125NMJ.jpg
END:VEVENT
BEGIN:VEVENT
DTSTART;VALUE=DATE:20260125
DTEND;VALUE=DATE:20260126
DTSTAMP:20260426T032959
CREATED:20251204T090509Z
LAST-MODIFIED:20260120T152620Z
UID:15661-1769299200-1769385599@tiamoa.jp
SUMMARY:『IDOL SPIRITS  SP 1月特別号パラダイスホール』＠KMAパラダイスホール
DESCRIPTION:⏰日時　1月25日(日)\n📝イベント名　『IDOL SPIRITS  SP 1月特別号パラダイスホール』\n💴料金　前方優先エリア　前売り・3000円＋1D　一般エリア　前売り・2000円＋1D　※当日券は＋700円＋1Dとなります。\n🎫予約　https://t-dv.com/AipwojKmaRIwPS2i9cTT\n🎤LIVE　14:15〜14:35\n📸物販　14:40〜15:40(B)\n🎁指名特典　TikTok撮影\n📍会場　KMAパラダイスホール\n🚪開場　9:50\n💃開演　10:05\n👩🏼‍💻出演　ちあもあ！、PATI PATI CANDY…☆、松山あおい、松岡未都、ポケットファントム、代々木女子音楽院、innocentFairy、Milky Doll、メランポジューム、CHEERFUL、ByteScwarz、SeedS、ゆめみるよる。、Sparkle、STRAWBERRY FEATHERSTAR、PRiYAnCeR、RiKKYY、わなびー、Lexari♡R
URL:https://tiamoa.jp/event/%e3%83%a9%e3%82%a4%e3%83%96%ef%bc%a0kma%e3%83%91%e3%83%a9%e3%83%80%e3%82%a4%e3%82%b9%e3%83%9b%e3%83%bc%e3%83%ab/
ATTACH;FMTTYPE=image/jpeg:https://tiamoa.jp/wp-content/uploads/S__7512135.jpg
END:VEVENT
END:VCALENDAR