BEGIN:VCALENDAR
VERSION:2.0
PRODID:-//ちあもあ - ECPv6.11.2//NONSGML v1.0//EN
CALSCALE:GREGORIAN
METHOD:PUBLISH
X-ORIGINAL-URL:https://tiamoa.jp
X-WR-CALDESC:ちあもあ のイベント
REFRESH-INTERVAL;VALUE=DURATION:PT1H
X-Robots-Tag:noindex
X-PUBLISHED-TTL:PT1H
BEGIN:VTIMEZONE
TZID:Asia/Tokyo
BEGIN:STANDARD
TZOFFSETFROM:+0900
TZOFFSETTO:+0900
TZNAME:JST
DTSTART:20260101T000000
END:STANDARD
END:VTIMEZONE
BEGIN:VEVENT
DTSTART;VALUE=DATE:20260126
DTEND;VALUE=DATE:20260127
DTSTAMP:20260426T020403
CREATED:20260123T023752Z
LAST-MODIFIED:20260123T023814Z
UID:15871-1769385600-1769471999@tiamoa.jp
SUMMARY:ちあもあ！宴会 〜お客様打ち合わせ〜＠池袋Lavis
DESCRIPTION:⏰日時　1月26日（月）\n📝イベント名　ちあもあ！宴会〜お客様打ち合わせ〜　\n🎫予約　https://forms.gle/nQ8GMNsyyj851UXJ7\n🎫配信チケット　https://Tiamoa.base.shop/items/132097491\n🎁指名特典　英語限定10秒動画\n📍会場　池袋Lavis\n🚪開場　20:15\n💃開演　20:30\n👩🏼‍💻出演　ちあもあ！
URL:https://tiamoa.jp/event/%e3%81%a1%e3%81%82%e3%82%82%e3%81%82%ef%bc%81%e5%ae%b4%e4%bc%9a-%e3%80%9c%e3%81%8a%e5%ae%a2%e6%a7%98%e6%89%93%e3%81%a1%e5%90%88%e3%82%8f%e3%81%9b%e3%80%9c%ef%bc%a0%e6%b1%a0%e8%a2%8blavis/
ATTACH;FMTTYPE=image/jpeg:https://tiamoa.jp/wp-content/uploads/G-xQg61aIAAePlt.jpeg
END:VEVENT
END:VCALENDAR