BEGIN:VCALENDAR
VERSION:2.0
PRODID:-//ちあもあ - ECPv6.11.2//NONSGML v1.0//EN
CALSCALE:GREGORIAN
METHOD:PUBLISH
X-WR-CALNAME:ちあもあ
X-ORIGINAL-URL:https://tiamoa.jp
X-WR-CALDESC:ちあもあ のイベント
REFRESH-INTERVAL;VALUE=DURATION:PT1H
X-Robots-Tag:noindex
X-PUBLISHED-TTL:PT1H
BEGIN:VTIMEZONE
TZID:Asia/Tokyo
BEGIN:STANDARD
TZOFFSETFROM:+0900
TZOFFSETTO:+0900
TZNAME:JST
DTSTART:20260101T000000
END:STANDARD
END:VTIMEZONE
BEGIN:VEVENT
DTSTART;VALUE=DATE:20260131
DTEND;VALUE=DATE:20260201
DTSTAMP:20260426T020244
CREATED:20251204T105500Z
LAST-MODIFIED:20260128T181719Z
UID:15668-1769817600-1769903999@tiamoa.jp
SUMMARY:『SeeKa IDOL FESTIVAL』＠秋葉原シンフォニア
DESCRIPTION:⏰日時　1月31日(土)\n📝イベント名　『SeeKa IDOL FESTIVAL』\n💴料金　2\,000円＋1Ｄ\n🎫予約　予約不要\n🎤LIVE　12:10〜12:30\n📸物販　12:35〜13:35(C)\n🎁指名特典　10秒動画\n📍会場　秋葉原シンフォニア\n🚪開場　9:45\n💃開演　10:00
URL:https://tiamoa.jp/event/%e3%83%a9%e3%82%a4%e3%83%96%ef%bc%a0%e7%a7%8b%e8%91%89%e5%8e%9f%e3%82%b7%e3%83%b3%e3%83%95%e3%82%a9%e3%83%8b%e3%82%a2/
ATTACH;FMTTYPE=image/jpeg:https://tiamoa.jp/wp-content/uploads/S__85319730.jpg
END:VEVENT
END:VCALENDAR