BEGIN:VCALENDAR
VERSION:2.0
PRODID:-//ちあもあ - ECPv6.11.2//NONSGML v1.0//EN
CALSCALE:GREGORIAN
METHOD:PUBLISH
X-ORIGINAL-URL:https://tiamoa.jp
X-WR-CALDESC:ちあもあ のイベント
REFRESH-INTERVAL;VALUE=DURATION:PT1H
X-Robots-Tag:noindex
X-PUBLISHED-TTL:PT1H
BEGIN:VTIMEZONE
TZID:Asia/Tokyo
BEGIN:STANDARD
TZOFFSETFROM:+0900
TZOFFSETTO:+0900
TZNAME:JST
DTSTART:20260101T000000
END:STANDARD
END:VTIMEZONE
BEGIN:VEVENT
DTSTART;VALUE=DATE:20260201
DTEND;VALUE=DATE:20260202
DTSTAMP:20260426T020356
CREATED:20260120T034038Z
LAST-MODIFIED:20260123T083936Z
UID:15848-1769904000-1769990399@tiamoa.jp
SUMMARY:「緊急開催！namco TOKYO presents タタリナムコトーキョー〜番外編Vol.8〜」＠新宿 namco TOKYO
DESCRIPTION:⏰日時　2月1日(日)\n📝イベント名　「緊急開催！namco TOKYO presents タタリナムコトーキョー〜番外編Vol.8〜」\n💴料金　入場料無料！+1ドリンク制\n🎤LIVE　18:00〜18:25\n📸物販　終演後物販\n🎁指名特典　2ショット写メ\n📍会場　新宿 namco TOKYO\n🚪開場　15:30\n💃開演　16:00\n👩🏼‍💻出演　ちあもあ！/ジュリアナの祟り/仮面女子/タイムラプス/露光時間/first crush/夜明けのアイリス/ソロ♨️るる/マイちゃんアミちゃん
URL:https://tiamoa.jp/event/%e3%83%a9%e3%82%a4%e3%83%96%ef%bc%a0%e6%96%b0%e5%ae%bf-namco-tokyo/
ATTACH;FMTTYPE=image/jpeg:https://tiamoa.jp/wp-content/uploads/2_1ナムコフライヤー.jpg
END:VEVENT
BEGIN:VEVENT
DTSTART;VALUE=DATE:20260201
DTEND;VALUE=DATE:20260202
DTSTAMP:20260426T020356
CREATED:20260129T102531Z
LAST-MODIFIED:20260131T083116Z
UID:15905-1769904000-1769990399@tiamoa.jp
SUMMARY:【SHINJUKU IDOL FRONTIER-0201-】＠新宿HOLIDAY
DESCRIPTION:⏰日時　2026年2月1日(日)\n📝イベント名　【SHINJUKU IDOL FRONTIER-0201-】\n💴料金　前方Sチケット：￥4000 / 一般Aチケット：￥3000 / 当日：各+￥500 / 各別途1D\n🎫予約　https://tiget.net/events/463233\n🎤LIVE　14:05〜14:30\n📸物販　14:35〜15:35\n🎁指名特典　2ショット写メ\n📍会場　新宿HOLIDAY\n🚪開場　13:00\n💃開演　13:20\n👩🏼‍💻出演　ちあもあ！、100YOKAI、世ノ果テデ人形ハ唯哂フ。、Red Radiance、SILEN、DA・BAMBI、道玄坂69、ど～げん坂69、NEO CHARM、Phonitune、ミリフェア、みるせんっ！、andmore
URL:https://tiamoa.jp/event/%e3%83%a9%e3%82%a4%e3%83%96%ef%bc%a0%e6%96%b0%e5%ae%bfholiday/
ATTACH;FMTTYPE=image/jpeg:https://tiamoa.jp/wp-content/uploads/2026_0201_HOLIDAY_POP_FIX修正.jpg
END:VEVENT
END:VCALENDAR