BEGIN:VCALENDAR
VERSION:2.0
PRODID:-//ちあもあ - ECPv6.11.2//NONSGML v1.0//EN
CALSCALE:GREGORIAN
METHOD:PUBLISH
X-ORIGINAL-URL:https://tiamoa.jp
X-WR-CALDESC:ちあもあ のイベント
REFRESH-INTERVAL;VALUE=DURATION:PT1H
X-Robots-Tag:noindex
X-PUBLISHED-TTL:PT1H
BEGIN:VTIMEZONE
TZID:Asia/Tokyo
BEGIN:STANDARD
TZOFFSETFROM:+0900
TZOFFSETTO:+0900
TZNAME:JST
DTSTART:20260101T000000
END:STANDARD
END:VTIMEZONE
BEGIN:VEVENT
DTSTART;VALUE=DATE:20260207
DTEND;VALUE=DATE:20260208
DTSTAMP:20260426T020406
CREATED:20260129T163527Z
LAST-MODIFIED:20260206T073804Z
UID:15911-1770422400-1770508799@tiamoa.jp
SUMMARY:【メガ盛りMAX2026-Trial-0207-】＠池袋リヴォイス
DESCRIPTION:⏰日時　2月7日(土)　\n📝イベント名　【メガ盛りMAX2026-Trial-0207-】\n💴料金　前方Sチケット：￥3500 / 一般Aチケット：￥2500 / 当日：各＋￥500 / 各別途1D\n🎫予約　https://tiget.net/events/464875\n🎤LIVE　17:40〜18:00\n📸物販　18:05〜19:15(D)\n🎁指名特典　2ショット写メ\n📍会場　池袋リヴォイス\n🚪開場　14:00\n💃開演　14:30\n👩🏼‍💻出演　ちあもあ！、Guest：東京CuteCute、『アイコノクラズム』、AsteRythm、1学期の前髪、CODE改革同盟、渋谷DOMINION、真夜中のメリーゴーランド、みるせんっ！、るるぱにっく
URL:https://tiamoa.jp/event/%e3%83%a9%e3%82%a4%e3%83%96%ef%bc%a0%e6%b1%a0%e8%a2%8b%e3%83%aa%e3%83%b4%e3%82%a9%e3%82%a4%e3%82%b9-3/
ATTACH;FMTTYPE=image/jpeg:https://tiamoa.jp/wp-content/uploads/2026_0125_リヴォイス_メガ盛りMAX2026-Trial-_POP_04.jpg
END:VEVENT
BEGIN:VEVENT
DTSTART;VALUE=DATE:20260207
DTEND;VALUE=DATE:20260208
DTSTAMP:20260426T020406
CREATED:20260128T180846Z
LAST-MODIFIED:20260205T062444Z
UID:15896-1770422400-1770508799@tiamoa.jp
SUMMARY:「夕立の庭 Vol.3」＠神田CLUB F#
DESCRIPTION:⏰日時　2/7（土）\n📝イベント名　「夕立の庭 Vol.3」\n💴料金　前売 2500円 / 当日 3000円 / 各＋1D\n🎫予約　https://livepocket.jp/e/ges_vol_3\n🎫情報解禁　2/4(水) 18:00\n🎤LIVE　12:40〜13:00\n📸物販　13:10〜14:10\n🎁指名特典　10秒動画\n📍会場　神田CLUB F#\n🚪開場　12:00\n💃開演　12:20\n👩🏼‍💻出演　ちあもあ！ / Varia Noise. / 漆黒ノ協奏曲〜コンチェルト〜 / 残響カノン  / 桜野雅陽 / Li-V-RAVE
URL:https://tiamoa.jp/event/%e3%83%a9%e3%82%a4%e3%83%96%ef%bc%a0%e7%a5%9e%e7%94%b0club-f/
ATTACH;FMTTYPE=image/jpeg:https://tiamoa.jp/wp-content/uploads/IMG_6627.jpg
END:VEVENT
END:VCALENDAR