BEGIN:VCALENDAR
VERSION:2.0
PRODID:-//ちあもあ - ECPv6.11.2//NONSGML v1.0//EN
CALSCALE:GREGORIAN
METHOD:PUBLISH
X-WR-CALNAME:ちあもあ
X-ORIGINAL-URL:https://tiamoa.jp
X-WR-CALDESC:ちあもあ のイベント
REFRESH-INTERVAL;VALUE=DURATION:PT1H
X-Robots-Tag:noindex
X-PUBLISHED-TTL:PT1H
BEGIN:VTIMEZONE
TZID:Asia/Tokyo
BEGIN:STANDARD
TZOFFSETFROM:+0900
TZOFFSETTO:+0900
TZNAME:JST
DTSTART:20260101T000000
END:STANDARD
END:VTIMEZONE
BEGIN:VEVENT
DTSTART;VALUE=DATE:20260208
DTEND;VALUE=DATE:20260209
DTSTAMP:20260426T023916
CREATED:20251025T111652Z
LAST-MODIFIED:20260120T155338Z
UID:15467-1770508800-1770595199@tiamoa.jp
SUMMARY:『OTONOVA2026』＠Zepp Shinjuku(TOKYO)
DESCRIPTION:⏰日時　2月8日(日)\n📝イベント名　『OTONOVA2026』\n💴料金　前売（整理券）3\,500円　ドリンク代600円が入場時に別途必要（交通系IC・現金でのお支払い可能）/ 当日券（整理券）4\,000円　ドリンク代600円が入場時に別途必要（交通系IC・現金でのお支払い可能）\n🎫予約　https://livepocket.jp/e/otonova2026\n🎤LIVE　18:16\n📸物販　調整中\n📍会場　Zepp Shinjuku(TOKYO)\n🚪開場　15:00\n💃開演　15:30\n👩🏼‍💻出演　ちあもあ！、Elizabeth.eight、Asamo、なるとし、YouKey、川原光貴、Schema、NAO ANNO(安納なお)\n⚠️撮影禁止、特典無し
URL:https://tiamoa.jp/event/%e3%83%a9%e3%82%a4%e3%83%96-3/
ATTACH;FMTTYPE=image/jpeg:https://tiamoa.jp/wp-content/uploads/1280_720.jpg
END:VEVENT
END:VCALENDAR