BEGIN:VCALENDAR
VERSION:2.0
PRODID:-//ちあもあ - ECPv6.11.2//NONSGML v1.0//EN
CALSCALE:GREGORIAN
METHOD:PUBLISH
X-WR-CALNAME:ちあもあ
X-ORIGINAL-URL:https://tiamoa.jp
X-WR-CALDESC:ちあもあ のイベント
REFRESH-INTERVAL;VALUE=DURATION:PT1H
X-Robots-Tag:noindex
X-PUBLISHED-TTL:PT1H
BEGIN:VTIMEZONE
TZID:Asia/Tokyo
BEGIN:STANDARD
TZOFFSETFROM:+0900
TZOFFSETTO:+0900
TZNAME:JST
DTSTART:20260101T000000
END:STANDARD
END:VTIMEZONE
BEGIN:VEVENT
DTSTART;VALUE=DATE:20260220
DTEND;VALUE=DATE:20260221
DTSTAMP:20260426T020245
CREATED:20251230T083410Z
LAST-MODIFIED:20260217T170622Z
UID:15759-1771545600-1771631999@tiamoa.jp
SUMMARY:『TALE N.T. FESTA FREELIVE Vol.33』＠五反田G4
DESCRIPTION:⏰日時　2月20日(金)\n📝イベント名　『TALE N.T. FESTA FREELIVE Vol.33』\n💴料金　一般¥0/優先¥2\,000 / 当日各+¥1000 (別途各＋2D 1400円)\n🎫予約　https://t-dv.com/talefreelive33\n🎫情報解禁　2/14 18:00\n🎫チケ発　2/14 22:00\n🎤LIVE　20:45〜21:05\n📸物販　終演後物販\n🎁指名特典　10秒動画\n📍会場　五反田G4\n🚪開場　18:10\n💃開演　18:30\n👩🏼‍💻出演　ちあもあ！ / Re:INCARNATION / HEAVENLY / ドキドキハキミノセイ / NO FRAME / オルヘルの羽 / フラップアップ⤴ / あいげっちゅー！ / シブヤDOMINION
URL:https://tiamoa.jp/event/%e3%83%a9%e3%82%a4%e3%83%96%ef%bc%a0%e4%ba%94%e5%8f%8d%e7%94%b0g4/
ATTACH;FMTTYPE=image/jpeg:https://tiamoa.jp/wp-content/uploads/S__62455865.jpg
END:VEVENT
END:VCALENDAR