BEGIN:VCALENDAR
VERSION:2.0
PRODID:-//ちあもあ - ECPv6.11.2//NONSGML v1.0//EN
CALSCALE:GREGORIAN
METHOD:PUBLISH
X-WR-CALNAME:ちあもあ
X-ORIGINAL-URL:https://tiamoa.jp
X-WR-CALDESC:ちあもあ のイベント
REFRESH-INTERVAL;VALUE=DURATION:PT1H
X-Robots-Tag:noindex
X-PUBLISHED-TTL:PT1H
BEGIN:VTIMEZONE
TZID:Asia/Tokyo
BEGIN:STANDARD
TZOFFSETFROM:+0900
TZOFFSETTO:+0900
TZNAME:JST
DTSTART:20260101T000000
END:STANDARD
END:VTIMEZONE
BEGIN:VEVENT
DTSTART;VALUE=DATE:20260228
DTEND;VALUE=DATE:20260301
DTSTAMP:20260426T003603
CREATED:20260214T085521Z
LAST-MODIFIED:20260226T065046Z
UID:15959-1772236800-1772323199@tiamoa.jp
SUMMARY:「GOTANDA DREAMBOX ～Saturday 1CoinLive special～」＠GOTANDA G6
DESCRIPTION:⏰日時　2/28(土)\n📝イベント名　「GOTANDA DREAMBOX ～Saturday 1CoinLive special～」\n💴料金　前方エリア2000円(+1D)　一般エリア500円(+2D)\n🎫予約　https://t-dv.com/DREAMBOX0228\n🎫情報解禁　2/20(金)　21:00\n🎤LIVE　21:00〜21:15\n📸物販　終演後物販\n🎁指名特典　TikTok撮影\n📍会場　GOTANDA G6\n🚪開場　9:45\n💃開演　10:00\n👩🏼‍💻出演　ちあもあ！/Lって何のLですか？/キプリスモルホォ/青山Rabness/ガブっと！ひゃっきおとめ/DA• BAMBI/\n揺メク夜ニ/OLiDOL!/Maboroっち/100-YOKAI/SUGAR☆VEGA.­com/Bright Charm/ドキドキハキミノセイ/AMLS&DOKUDOKU/MASK OF GODDESS/Try me/わんだふるぱれーど！/Re:Yu/▷こすもえっ！♡.cute/idoress/ARIStoCRAT -ｱﾘｽﾄｸﾗｯﾄ-/Cortile/相沢瞳/昼夜逆転/Blossom Garden/MEMORI/奏音コレクト/レッスントゥミー/ヒップバーン/NO FRAME/PinkPanda/SEKAMONO/きゅんﾀﾋに一生を!?/プリンセスは眠らないっ！/PrismPotion/
URL:https://tiamoa.jp/event/%e3%83%a9%e3%82%a4%e3%83%96%ef%bc%a0gotanda-g6-2/
ATTACH;FMTTYPE=image/jpeg:https://tiamoa.jp/wp-content/uploads/IMG_7188-scaled.jpeg
END:VEVENT
BEGIN:VEVENT
DTSTART;VALUE=DATE:20260228
DTEND;VALUE=DATE:20260301
DTSTAMP:20260426T003603
CREATED:20260128T181336Z
LAST-MODIFIED:20260224T180506Z
UID:15900-1772236800-1772323199@tiamoa.jp
SUMMARY:『Colorful Idol Fes Vol.5』＠浅草VAMPKIN
DESCRIPTION:⏰日時　2月28日（土）\n📝イベント名　『Colorful Idol Fes Vol.5』\n💴料金　前方4\,000円　一般2\,000円(仮)\n🎫予約　https://t-dv.com/colorfulidolfes5　\n🎤LIVE　14:00〜14:20\n📸物販　14:30〜15:30(B)\n🎁指名特典　2ショット写メ\n📍会場　浅草VAMPKIN\n🚪開場　10:30\n💃開演　10:45\n👩🏼‍💻出演　ちあもあ！ / embellir / Innocent Fairy / 尾崎ヒカル / きみパレ / 木村真悠 / Claire♡Dolls / KOIHAJI / ConnectCall / 宇宙カラノ侵略者 / Tool to / NCHD-のちほど- / HERO CHARM / ぷらちなまふぃあ。 / ぷれしゃす♡ぱーてぃー / 真夜中の魔法少女 / 真夜中のメリーゴーランド / ヤンチャン学園音楽部 / YUMEADO CiTRON / 代々木女子音楽院 / LOVE SPEARS / RUN WiTH YOU / Reverse Tokyo / Re:♡ / るるぱにっく!! / れんてつ / wqwq
URL:https://tiamoa.jp/event/%e3%83%a9%e3%82%a4%e3%83%96%ef%bc%a0%e6%b5%85%e8%8d%89vampkin-2/
ATTACH;FMTTYPE=image/jpeg:https://tiamoa.jp/wp-content/uploads/HB57L4RbYAA4YMy.jpeg
END:VEVENT
END:VCALENDAR