BEGIN:VCALENDAR
VERSION:2.0
PRODID:-//ちあもあ - ECPv6.11.2//NONSGML v1.0//EN
CALSCALE:GREGORIAN
METHOD:PUBLISH
X-WR-CALNAME:ちあもあ
X-ORIGINAL-URL:https://tiamoa.jp
X-WR-CALDESC:ちあもあ のイベント
REFRESH-INTERVAL;VALUE=DURATION:PT1H
X-Robots-Tag:noindex
X-PUBLISHED-TTL:PT1H
BEGIN:VTIMEZONE
TZID:Asia/Tokyo
BEGIN:STANDARD
TZOFFSETFROM:+0900
TZOFFSETTO:+0900
TZNAME:JST
DTSTART:20260101T000000
END:STANDARD
END:VTIMEZONE
BEGIN:VEVENT
DTSTART;VALUE=DATE:20260313
DTEND;VALUE=DATE:20260314
DTSTAMP:20260426T003612
CREATED:20260228T082014Z
LAST-MODIFIED:20260306T112718Z
UID:16041-1773360000-1773446399@tiamoa.jp
SUMMARY:『無銭ぷろじぇくと!! vol.57』@GOTNDA G4
DESCRIPTION:⏰日時　3月13日（金）\n📝イベント名　\n💴料金　■通常エリアチケット：「0円」　■前方エリアチケット：2\,000円　■当日チケット：各種+1\,000円　※各種+2ドリンク　■再入場：可能（無料）\n🎫予約　paylove.org/events/1616\n🎫情報解禁　3月3日 19:00\n🎫チケ発　3月4日 19:00\n🎤LIVE　20:35〜20:50\n📸物販　終演後物販\n🎁指名特典　10秒動画\n📍会場　GOTNDA G4\n🚪開場　17:20\n💃開演　17:30
URL:https://tiamoa.jp/event/%e3%83%a9%e3%82%a4%e3%83%96gotnda-g4/
ATTACH;FMTTYPE=image/jpeg:https://tiamoa.jp/wp-content/uploads/無銭プロジェクト20260310_vol56-1.jpg
END:VEVENT
END:VCALENDAR