BEGIN:VCALENDAR
VERSION:2.0
PRODID:-//ちあもあ - ECPv6.11.2//NONSGML v1.0//EN
CALSCALE:GREGORIAN
METHOD:PUBLISH
X-WR-CALNAME:ちあもあ
X-ORIGINAL-URL:https://tiamoa.jp
X-WR-CALDESC:ちあもあ のイベント
REFRESH-INTERVAL;VALUE=DURATION:PT1H
X-Robots-Tag:noindex
X-PUBLISHED-TTL:PT1H
BEGIN:VTIMEZONE
TZID:Asia/Tokyo
BEGIN:STANDARD
TZOFFSETFROM:+0900
TZOFFSETTO:+0900
TZNAME:JST
DTSTART:20260101T000000
END:STANDARD
END:VTIMEZONE
BEGIN:VEVENT
DTSTART;VALUE=DATE:20260326
DTEND;VALUE=DATE:20260327
DTSTAMP:20260426T002858
CREATED:20260225T175115Z
LAST-MODIFIED:20260225T175115Z
UID:16027-1774483200-1774569599@tiamoa.jp
SUMMARY:ちあぱー
DESCRIPTION:https://www.bear.cool/board-game/event/106899/info
URL:https://tiamoa.jp/event/%e3%81%a1%e3%81%82%e3%81%b1%e3%83%bc-15/
END:VEVENT
END:VCALENDAR