BEGIN:VCALENDAR
VERSION:2.0
PRODID:-//ちあもあ - ECPv6.11.2//NONSGML v1.0//EN
CALSCALE:GREGORIAN
METHOD:PUBLISH
X-ORIGINAL-URL:https://tiamoa.jp
X-WR-CALDESC:ちあもあ のイベント
REFRESH-INTERVAL;VALUE=DURATION:PT1H
X-Robots-Tag:noindex
X-PUBLISHED-TTL:PT1H
BEGIN:VTIMEZONE
TZID:Asia/Tokyo
BEGIN:STANDARD
TZOFFSETFROM:+0900
TZOFFSETTO:+0900
TZNAME:JST
DTSTART:20260101T000000
END:STANDARD
END:VTIMEZONE
BEGIN:VEVENT
DTSTART;VALUE=DATE:20260424
DTEND;VALUE=DATE:20260425
DTSTAMP:20260425T224348
CREATED:20260217T170125Z
LAST-MODIFIED:20260419T070347Z
UID:15976-1776988800-1777075199@tiamoa.jp
SUMMARY:Tak@メディカルスタッフ自主興行　#遅れてきた10周年＠TOKYOSQUARE in Itabashi
DESCRIPTION:⏰日時　4/24㈮\n📝イベント名　Tak@メディカルスタッフ自主興行　#遅れてきた10周年\n💴料金　南最前列(お土産付き)：7000円　最前列(東･西･北)：6000円　自由席：5000円　立ち見スペース：4000円\n🎫予約　@medi_staf 宛にDM\n🎤LIVE　19:40-19:55\n📸物販　終演後(21時頃)\n🎁指名特典　10秒動画\n📍会場　TOKYOSQUARE in Itabashi\n🚪開場　18:30\n💃開演　18:45 \n柚井ゆい、天翔ゆいのユニット｢ゆずのてんぷら｣の出番\n18:45-19:00
URL:https://tiamoa.jp/event/tak%e3%83%a1%e3%83%87%e3%82%a3%e3%82%ab%e3%83%ab%e3%82%b9%e3%82%bf%e3%83%83%e3%83%95%e8%87%aa%e4%b8%bb%e8%88%88%e8%a1%8c%e3%80%80%e9%81%85%e3%82%8c%e3%81%a6%e3%81%8d%e3%81%9f10%e5%91%a8%e5%b9%b4/
ATTACH;FMTTYPE=image/jpeg:https://tiamoa.jp/wp-content/uploads/S__28696612.jpg
END:VEVENT
END:VCALENDAR