BEGIN:VCALENDAR
VERSION:2.0
PRODID:-//ちあもあ - ECPv6.11.2//NONSGML v1.0//EN
CALSCALE:GREGORIAN
METHOD:PUBLISH
X-WR-CALNAME:ちあもあ
X-ORIGINAL-URL:https://tiamoa.jp
X-WR-CALDESC:ちあもあ のイベント
REFRESH-INTERVAL;VALUE=DURATION:PT1H
X-Robots-Tag:noindex
X-PUBLISHED-TTL:PT1H
BEGIN:VTIMEZONE
TZID:Asia/Tokyo
BEGIN:STANDARD
TZOFFSETFROM:+0900
TZOFFSETTO:+0900
TZNAME:JST
DTSTART:20260101T000000
END:STANDARD
END:VTIMEZONE
BEGIN:VEVENT
DTSTART;VALUE=DATE:20260426
DTEND;VALUE=DATE:20260427
DTSTAMP:20260426T012146
CREATED:20260310T024727Z
LAST-MODIFIED:20260421T140628Z
UID:16114-1777161600-1777247999@tiamoa.jp
SUMMARY:『Believe! Belief! Be Light!』＠秋葉原Galaxy
DESCRIPTION:⏰日時　2026年4月26日\n📝イベント名　『Believe! Belief! Be Light!』\n📍会場　秋葉原Galaxy\n💴料金　Sチケット 10\,000円+1d、特典付きAチケット 5\,000円+1d、Aチケット 3\,000円+1d、当日券＋1000円\n🎫予約　http://livepocket.jp/e/tiamoa0426\n🎤LIVE　19:25-20:25\n📸物販　20:30-22:00\n️‍🔥サポートメンバー　しーた、天翔ゆい\n🚪開場　18:00\n💃開演　18:30\n👩🏼‍💻出演　ちあもあ！/FortunesEAST\n/HIRAETH.Tokyo/サポートメンバーとP
URL:https://tiamoa.jp/event/%e3%83%a9%e3%82%a4%e3%83%96%ef%bc%a0%e7%a7%8b%e8%91%89%e5%8e%9fgalaxy-5/
ATTACH;FMTTYPE=image/jpeg:https://tiamoa.jp/wp-content/uploads/新.jpg
END:VEVENT
END:VCALENDAR