BEGIN:VCALENDAR
VERSION:2.0
PRODID:-//ちあもあ - ECPv6.11.2//NONSGML v1.0//EN
CALSCALE:GREGORIAN
METHOD:PUBLISH
X-ORIGINAL-URL:https://tiamoa.jp
X-WR-CALDESC:ちあもあ のイベント
REFRESH-INTERVAL;VALUE=DURATION:PT1H
X-Robots-Tag:noindex
X-PUBLISHED-TTL:PT1H
BEGIN:VTIMEZONE
TZID:Asia/Tokyo
BEGIN:STANDARD
TZOFFSETFROM:+0900
TZOFFSETTO:+0900
TZNAME:JST
DTSTART:20260101T000000
END:STANDARD
END:VTIMEZONE
BEGIN:VEVENT
DTSTART;VALUE=DATE:20260429
DTEND;VALUE=DATE:20260430
DTSTAMP:20260425T224323
CREATED:20260319T064706Z
LAST-MODIFIED:20260424T083213Z
UID:16141-1777420800-1777507199@tiamoa.jp
SUMMARY:『NEO IDOLEGION SPECIAL』＠新宿DHNoA
DESCRIPTION:⏰日時　4月29日(水祝)\n📝イベント名　『NEO IDOLEGION SPECIAL』\n📍会場　新宿DHNoA\n💴料金　一般¥1000 / 優先¥2\,500 / 最優先¥5\,000 当日各+¥500 (別途1D 700円)\n🎫予約　https://t-dv.com/idolegionsp02\n🎫情報解禁　4/20(月)17:00\n🎫チケ発　4/20(月)22:00\n🎤LIVE　14:50〜15:05\n📸物販　15:10〜16:00(A)\n🎁指名特典　10秒動画\n️‍🔥サポートメンバー　しーた\n🚪開場　10:30\n💃開演　10:40\n👩🏼‍💻出演　ちあもあ！ / 雨宮るか / あんずゆいな / 8FLAG / 8ANGEL / 8DOLL / 8WIZARD / おすましティーパーティー / 傾奇隊 / キミリセット / 煌きメリー☆ボップ / CODE改革同盟 / CHROMA / 再生のルクトゥミー / 青春のフロンティア / タイムラプス / ちあもあ！ / Tiara Palette / 月ノ踊子ラビット / TJP / ToyTicTrap / 天下統一やまおかりりこ / てんしろっ！ / 七海こなみ / にゃんすきっ♡？ / NEOTOKYO-TRIBE / はいどーも！テラスマです！ / HEAVENLY / VelvetPlunder / 未完成カラット / Mellow / めろでぃProject / リベルナント / Rociena / 笑う門には福来たる / WONDARIA / ゎんみゅー♡ / 26時のシンデレラ / THAT’s So / Re:INCARNATION / みらくる🌙ふぉーぜ-ZERO- / 岩村華 / AiliceNoa / 天上天使 / MeltiaDoll / Quest Ship /
URL:https://tiamoa.jp/event/%e3%83%a9%e3%82%a4%e3%83%96%ef%bc%a0%e6%96%b0%e5%ae%bfdhnoa-6/
ATTACH;FMTTYPE=image/jpeg:https://tiamoa.jp/wp-content/uploads/NEO-IDOLEGION-SPECIAL20260429-scaled.jpg
END:VEVENT
END:VCALENDAR