BEGIN:VCALENDAR
VERSION:2.0
PRODID:-//ちあもあ - ECPv6.11.2//NONSGML v1.0//EN
CALSCALE:GREGORIAN
METHOD:PUBLISH
X-WR-CALNAME:ちあもあ
X-ORIGINAL-URL:https://tiamoa.jp
X-WR-CALDESC:ちあもあ のイベント
REFRESH-INTERVAL;VALUE=DURATION:PT1H
X-Robots-Tag:noindex
X-PUBLISHED-TTL:PT1H
BEGIN:VTIMEZONE
TZID:Asia/Tokyo
BEGIN:STANDARD
TZOFFSETFROM:+0900
TZOFFSETTO:+0900
TZNAME:JST
DTSTART:20260101T000000
END:STANDARD
END:VTIMEZONE
BEGIN:VEVENT
DTSTART;VALUE=DATE:20260430
DTEND;VALUE=DATE:20260501
DTSTAMP:20260425T224155
CREATED:20260320T050454Z
LAST-MODIFIED:20260422T181831Z
UID:16149-1777507200-1777593599@tiamoa.jp
SUMMARY:ちあぱー
DESCRIPTION:【ボードゲーム会🎲】  \n4月30日（木）\n場所 JELLY JELLY CAFE池袋2号店\n19:00-22:00 イベント\n22:00-22:45 物販   \n👩🏼‍💻参加メンバー\n柚井ゆい\n紫遊ゆいか\nしーた\n如月ひなの \n初心者歓迎🔰楽しもう✨ \nご予約はこちらから⏬\nhttps://www.bear.cool/board-game/event/121277/info
URL:https://tiamoa.jp/event/%e3%81%a1%e3%81%82%e3%81%b1%e3%83%bc-19/
ATTACH;FMTTYPE=image/jpeg:https://tiamoa.jp/wp-content/uploads/messageImage_1776881281594.jpg
END:VEVENT
END:VCALENDAR