BEGIN:VCALENDAR
VERSION:2.0
PRODID:-//ちあもあ - ECPv6.11.2//NONSGML v1.0//EN
CALSCALE:GREGORIAN
METHOD:PUBLISH
X-ORIGINAL-URL:https://tiamoa.jp
X-WR-CALDESC:ちあもあ のイベント
REFRESH-INTERVAL;VALUE=DURATION:PT1H
X-Robots-Tag:noindex
X-PUBLISHED-TTL:PT1H
BEGIN:VTIMEZONE
TZID:Asia/Tokyo
BEGIN:STANDARD
TZOFFSETFROM:+0900
TZOFFSETTO:+0900
TZNAME:JST
DTSTART:20260101T000000
END:STANDARD
END:VTIMEZONE
BEGIN:VEVENT
DTSTART;VALUE=DATE:20260503
DTEND;VALUE=DATE:20260504
DTSTAMP:20260426T001131
CREATED:20260421T133516Z
LAST-MODIFIED:20260421T134247Z
UID:16249-1777766400-1777852799@tiamoa.jp
SUMMARY:ぶっとび！パンデミック× HIRAETH.Tokyo カップリングツアー『STELLA』大阪公演@アメリカ村DROP
DESCRIPTION:⏰日時　5/3(日)\n📝イベント名　ぶっとび！パンデミック× HIRAETH.Tokyo カップリングツアー『STELLA』大阪公演\n📍会場　アメリカ村DROP\n💴料金　優先 3\,500円 / 通常 3\,000円 / 当日＋¥500 (D代別)\n🎫予約　https://t-dv.com/STELLA\n🎫チケ発　2026/04/22 20:00\n🎤LIVE　18:20~18:50\n📸物販　終演後19:50~20:50\n‍🔥サポートメンバー　しーた\n🚪開場　17:30\n💃開演　17:50\n👩🏼‍💻出演　ボクセカ/ちあもあ！/HIRAETH.Tokyo/ぶっとび！パンデミック
URL:https://tiamoa.jp/event/%e3%83%a9%e3%82%a4%e3%83%96%e5%a4%a7%e9%98%aa/
ATTACH;FMTTYPE=image/jpeg:https://tiamoa.jp/wp-content/uploads/S__28803076.jpg
END:VEVENT
END:VCALENDAR