BEGIN:VCALENDAR
VERSION:2.0
PRODID:-//ちあもあ - ECPv6.11.2//NONSGML v1.0//EN
CALSCALE:GREGORIAN
METHOD:PUBLISH
X-ORIGINAL-URL:https://tiamoa.jp
X-WR-CALDESC:ちあもあ のイベント
REFRESH-INTERVAL;VALUE=DURATION:PT1H
X-Robots-Tag:noindex
X-PUBLISHED-TTL:PT1H
BEGIN:VTIMEZONE
TZID:Asia/Tokyo
BEGIN:STANDARD
TZOFFSETFROM:+0900
TZOFFSETTO:+0900
TZNAME:JST
DTSTART:20260101T000000
END:STANDARD
END:VTIMEZONE
BEGIN:VEVENT
DTSTART;VALUE=DATE:20260510
DTEND;VALUE=DATE:20260511
DTSTAMP:20260426T072045
CREATED:20260424T171843Z
LAST-MODIFIED:20260424T171843Z
UID:16285-1778371200-1778457599@tiamoa.jp
SUMMARY:ライブ@渋谷
DESCRIPTION:⏰日時　\n📝イベント名　\n📍会場　\n💴料金　\n🎫予約　\n🎫情報解禁　\n🎫チケ発　\n🎤LIVE　\n📸物販　\n🎁指名特典　\n🚪開場　\n💃開演　\n👩🏼‍💻出演　
URL:https://tiamoa.jp/event/%e3%83%a9%e3%82%a4%e3%83%96%e6%b8%8b%e8%b0%b7/
END:VEVENT
BEGIN:VEVENT
DTSTART;VALUE=DATE:20260510
DTEND;VALUE=DATE:20260511
DTSTAMP:20260426T072045
CREATED:20260420T171007Z
LAST-MODIFIED:20260420T171036Z
UID:16242-1778371200-1778457599@tiamoa.jp
SUMMARY:ライブ@中野坂上
DESCRIPTION:⏰日時　5/10(日)\n📝イベント名　\n📍会場　\n💴料金　\n🎫予約　\n🎫情報解禁　\n🎫チケ発　\n🎤LIVE　\n📸物販　\n🎁指名特典　\n🚪開場　\n💃開演　\n👩🏼‍💻出演　
URL:https://tiamoa.jp/event/%e3%83%a9%e3%82%a4%e3%83%96%e4%b8%ad%e9%87%8e%e5%9d%82%e4%b8%8a/
END:VEVENT
END:VCALENDAR