BEGIN:VCALENDAR
VERSION:2.0
PRODID:-//ちあもあ - ECPv6.11.2//NONSGML v1.0//EN
CALSCALE:GREGORIAN
METHOD:PUBLISH
X-ORIGINAL-URL:https://tiamoa.jp
X-WR-CALDESC:ちあもあ のイベント
REFRESH-INTERVAL;VALUE=DURATION:PT1H
X-Robots-Tag:noindex
X-PUBLISHED-TTL:PT1H
BEGIN:VTIMEZONE
TZID:Asia/Tokyo
BEGIN:STANDARD
TZOFFSETFROM:+0900
TZOFFSETTO:+0900
TZNAME:JST
DTSTART:20260101T000000
END:STANDARD
END:VTIMEZONE
BEGIN:VEVENT
DTSTART;VALUE=DATE:20260527
DTEND;VALUE=DATE:20260528
DTSTAMP:20260426T012436
CREATED:20260423T161316Z
LAST-MODIFIED:20260423T161316Z
UID:16272-1779840000-1779926399@tiamoa.jp
SUMMARY:ライブ@浅草
DESCRIPTION:
URL:https://tiamoa.jp/event/%e3%83%a9%e3%82%a4%e3%83%96%e6%b5%85%e8%8d%89/
END:VEVENT
END:VCALENDAR